BEGIN:VCALENDAR
VERSION:2.0
PRODID:-//HealthInsuranceCE - ECPv6.15.11//NONSGML v1.0//EN
CALSCALE:GREGORIAN
METHOD:PUBLISH
X-WR-CALNAME:HealthInsuranceCE
X-ORIGINAL-URL:https://healthinsurancece.com
X-WR-CALDESC:Events for HealthInsuranceCE
REFRESH-INTERVAL;VALUE=DURATION:PT1H
X-Robots-Tag:noindex
X-PUBLISHED-TTL:PT1H
BEGIN:VTIMEZONE
TZID:America/New_York
BEGIN:DAYLIGHT
TZOFFSETFROM:-0500
TZOFFSETTO:-0400
TZNAME:EDT
DTSTART:20240310T070000
END:DAYLIGHT
BEGIN:STANDARD
TZOFFSETFROM:-0400
TZOFFSETTO:-0500
TZNAME:EST
DTSTART:20241103T060000
END:STANDARD
BEGIN:DAYLIGHT
TZOFFSETFROM:-0500
TZOFFSETTO:-0400
TZNAME:EDT
DTSTART:20250309T070000
END:DAYLIGHT
BEGIN:STANDARD
TZOFFSETFROM:-0400
TZOFFSETTO:-0500
TZNAME:EST
DTSTART:20251102T060000
END:STANDARD
BEGIN:DAYLIGHT
TZOFFSETFROM:-0500
TZOFFSETTO:-0400
TZNAME:EDT
DTSTART:20260308T070000
END:DAYLIGHT
BEGIN:STANDARD
TZOFFSETFROM:-0400
TZOFFSETTO:-0500
TZNAME:EST
DTSTART:20261101T060000
END:STANDARD
END:VTIMEZONE
BEGIN:VEVENT
DTSTART;TZID=America/New_York:20250304T100000
DTEND;TZID=America/New_York:20250304T130000
DTSTAMP:20260422T054736
CREATED:20250218T214554Z
LAST-MODIFIED:20250219T140459Z
UID:22806-1741082400-1741093200@healthinsurancece.com
SUMMARY:March 4 - Be Careful What You Wish For\, Part 1 (45 Mass credits including ethics)
DESCRIPTION:The development of and implications of our commercial healthcare system. Follow this simple 3-step process. \nRead these texts \n\nCommercial Health Ins Issues\, 42 credits\, Mass course #6000182655\, pdf on this website under Texts after you login.\nEthical Insurance Advising I\, Commercial Insurance\, 3 ethics credits\, Mass course #6000157817\, pdf available on this website under Texts after you login.\n\nAttend the 30 minute lecture ‘Be Careful What You Wish For Part I’ on March 4 at 10:00 \n\nThe link will be sent to you separately\nGary Fradin will discuss some key structural problems with commercial health insurance.\n\nTake the exams on the 2 texts listed after the lecture. \n\nAbout 30 minutes / exam. Graded immediately. Retakes available as necessary. Be sure to finish by end-of-work on March 6. Late exams will not be accepted.\nYou will receive detailed exam access instructions a few days in advance.\n\n***** \nProcessing your order will take about 15 seconds. Do not refresh or reorder while you wait. The site will tell you when your order is complete. You will also receive confirmation by email.
URL:https://healthinsurancece.com/event/march-4-be-careful-what-you-wish-for-part-1-45-mass-credits-including-ethics/
CATEGORIES:Massachusetts
END:VEVENT
BEGIN:VEVENT
DTSTART;TZID=America/New_York:20250310T100000
DTEND;TZID=America/New_York:20250310T120000
DTSTAMP:20260422T054736
CREATED:20241202T201926Z
LAST-MODIFIED:20250130T153921Z
UID:20383-1741600800-1741608000@healthinsurancece.com
SUMMARY:March 10 - Be Careful What You Wish For\, Part 1 (24 Conn credits including LRE)
DESCRIPTION:The development of and implications of our commercial healthcare system. Follow this simple 3-step ‘like a college course’ process. \nRead these texts in advance \n\nIntro to Commercial Health Ins 16 credits\, Conn course #6000168101\, pdf under Texts on this website\, available after you login.\nFour Ethical Principles 8 LRE credits\, Conn course #6000169302\, pdf available on this website under Texts after you login.\n\nAttend the 30 minute Zoom lecture ‘Be Careful What You Wish For Part I’ on March 10 at 10:00 \n\nJoin Zoom Meeting\nhttps://us02web.zoom.us/j/89811378055?pwd=nLn8WpsPOviOWqswcA0bvYdUWP9R8c.1\nGary Fradin will discuss some key structural problems with commercial health insurance.\n\nTake the exams on the 2 texts after the lecture on this website. \n\nAbout 30 minutes / exam. Graded immediately. Retakes available as necessary. Be sure to finish by end-of-work on March 10.\nYou will receive detailed exam access instructions a few days in advance.\n\nThis is Part 1 of an envisioned 2 part CE program. The second part entitled Be Careful What You Wish For Part II\, worth an additional / different 24 CE credits\, will address structural problems with public / single payer health insurance. Tentatively scheduled for 2026. \nMoney back guarantee: We will refund your money if\, for any reason\, you do not like this program. This offer extends up to the time we report credits. \n***** \nProcessing your order will take about 15 seconds. Do not refresh or reorder while you wait. The site will tell you when your order is complete. You will also receive confirmation by email.
URL:https://healthinsurancece.com/event/march-10-be-careful-what-you-wish-for-part-1-24-conn-credits-including-lre/
LOCATION:Zoom\, Your office\, Your city
CATEGORIES:Connecticut
END:VEVENT
BEGIN:VEVENT
DTSTART;TZID=America/New_York:20250310T100000
DTEND;TZID=America/New_York:20250310T120000
DTSTAMP:20260422T054736
CREATED:20241202T202901Z
LAST-MODIFIED:20250209T150524Z
UID:20386-1741600800-1741608000@healthinsurancece.com
SUMMARY:March 10 - Be Careful What You Wish For\, Part 1 (24 NH credits including ethics)
DESCRIPTION:The development of and implications of our commercial healthcare system. Follow this simple 3-step ‘like a college course’ process. \nRead these texts \n\nCommercial Health Ins Issues 21 credits\, NH course #6000183710\, pdf under Texts on this website\, available after you login.\nEthical Insurance Advising I 3 ethics\, NH course #6000170009\, pdf available on this website under Texts after you login.\n\nAttend the 30 minute Zoom lecture ‘Be Careful What You Wish For Part I’ on March 10 at 10:00 \n\nJoin Zoom Meeting\nhttps://us02web.zoom.us/j/89811378055?pwd=nLn8WpsPOviOWqswcA0bvYdUWP9R8c.1\nGary Fradin will discuss some key structural problems with commercial health insurance.\n\nTake the exams after the lecture on this website. \n\nAbout 30 minutes / exam. Graded immediately. Retakes available as necessary. Be sure to finish by end-of-work on March 10.\nYou will receive detailed exam access instructions a few days in advance.\n\nThis is Part 1 of an envisioned 2 part CE program. The second part entitled Be Careful What You Wish For Part II\, worth an additional / different 24 CE credits\, will address structural problems with public / single payer health insurance. Tentatively scheduled for 2026. \nMoney back guarantee: We will refund your money if\, for any reason\, you do not like this program. This offer extends up to the time we report credits. \n***** \nProcessing your order will take about 15 seconds. Do not refresh or reorder while you wait. The site will tell you when your order is complete. You will also receive confirmation by email.
URL:https://healthinsurancece.com/event/march-10-be-careful-what-you-wish-for-part-1-24-nh-credits-including-ethics/
LOCATION:Zoom\, Your office\, Your city
CATEGORIES:New Hampshire
END:VEVENT
BEGIN:VEVENT
DTSTART;TZID=America/New_York:20250310T100000
DTEND;TZID=America/New_York:20250310T130000
DTSTAMP:20260422T054736
CREATED:20241202T201035Z
LAST-MODIFIED:20250209T222549Z
UID:20380-1741600800-1741611600@healthinsurancece.com
SUMMARY:March 10 - Be Careful What You Wish For\, Part 1 (45 Mass credits including ethics)
DESCRIPTION:The development of and implications of our commercial healthcare system. Follow this simple 3-step process. \nRead these texts \n\nCommercial Health Ins Issues\, 42 credits\, Mass course #6000182655\, pdf on this website under Texts after you login.\nEthical Insurance Advising I\, Commercial Insurance by Gary Fradin\, 3 ethics credits\, Mass course #6000157817\, pdf available on this website under Gary’s Texts after you login.\n\nAttend the 30 minute Zoom lecture ‘Be Careful What You Wish For Part I’ on March 10 at 10:00 \n\nJoin Zoom Meeting\nhttps://us02web.zoom.us/j/89811378055?pwd=nLn8WpsPOviOWqswcA0bvYdUWP9R8c.1\nGary Fradin will discuss some key structural problems with commercial health insurance.\n\nTake the exams on the 2 texts listed after the lecture. \n\nAbout 30 minutes / exam. Graded immediately. Retakes available as necessary. Be sure to finish by end-of-work on March 10.\nYou will receive detailed exam access instructions a few days in advance.\n\nThis is Part 1 of an envisioned 2 part CE program. The second part entitled Be Careful What You Wish For Part II\, worth an additional / different 45 CE credits\, will address structural problems with public / single payer health insurance. Tentatively scheduled for 2026. \nMost brokers need 45 credits every 3 years. New brokers need 60. To get additional credits\, add Mistreated by Richard Pearl\, Mass CE course #93761\, 16 credits. Purchase separately on this website. Any excess credits carry forward. \nMoney back guarantee: We will refund your money if\, for any reason\, you do not like this program. This offer extends up to the time we report credits. \n***** \nProcessing your order will take about 15 seconds. Do not refresh or reorder while you wait. The site will tell you when your order is complete. You will also receive confirmation by email.
URL:https://healthinsurancece.com/event/march-10-be-careful-what-you-wish-for-part-1-45-mass-credits-including-ethics/
LOCATION:Zoom\, Your office\, Your city
CATEGORIES:Massachusetts
END:VEVENT
BEGIN:VEVENT
DTSTART;TZID=America/New_York:20250314T100000
DTEND;TZID=America/New_York:20250314T120000
DTSTAMP:20260422T054736
CREATED:20241202T205802Z
LAST-MODIFIED:20250130T154654Z
UID:20395-1741946400-1741953600@healthinsurancece.com
SUMMARY:March 14 - Be Careful What You Wish For\, Part 1 (24 Conn credits including LRE)
DESCRIPTION:The development of and implications of our commercial healthcare system. Follow this simple 3-step ‘like a college course’ process. \nRead these texts in advance \n\nIntro to Commercial Health Ins 16 credits\, Conn course #6000168101\, pdf under Texts on this website\, available after you login.\nFour Ethical Principles 8 LRE credits\, Conn course #6000169302\, pdf available on this website under Texts after you login.\n\nAttend the 30 minute Zoom lecture ‘Be Careful What You Wish For Part I’ on March 14 at 10:00 \n\nJoin Zoom Meeting\nhttps://us02web.zoom.us/j/83326385038?pwd=qpa4qOkDeon1fFPLQDuL2McbuGA9HP.1\nGary Fradin will discuss some key structural problems with commercial health insurance.\n\nTake the exams on the 2 texts after the lecture on this website. \n\nAbout 30 minutes / exam. Graded immediately. Retakes available as necessary. Be sure to finish by end-of-work on March 14.\nYou will receive detailed exam access instructions a few days in advance.\n\nThis is Part 1 of an envisioned 2 part CE program. The second part entitled Be Careful What You Wish For Part II\, worth an additional / different 24 CE credits\, will address structural problems with public / single payer health insurance. Tentatively scheduled for 2026. \nMoney back guarantee: We will refund your money if\, for any reason\, you do not like this program. This offer extends up to the time we report credits. \n***** \nProcessing your order will take about 15 seconds. Do not refresh or reorder while you wait. The site will tell you when your order is complete. You will also receive confirmation by email.
URL:https://healthinsurancece.com/event/march-14-be-careful-what-you-wish-for-part-1-24-conn-credits-including-lre/
LOCATION:Zoom\, Your office\, Your city
CATEGORIES:Connecticut
END:VEVENT
BEGIN:VEVENT
DTSTART;TZID=America/New_York:20250314T100000
DTEND;TZID=America/New_York:20250314T130000
DTSTAMP:20260422T054736
CREATED:20241202T204710Z
LAST-MODIFIED:20250111T134311Z
UID:20390-1741946400-1741957200@healthinsurancece.com
SUMMARY:March 14 - Be Careful What You Wish For\, Part 1 (45 Mass credits including ethics)
DESCRIPTION:The development of and implications of our commercial healthcare system. Follow this simple 3-step process. \nRead these texts \n\nCommercial Health Ins Issues\, 42 credits\, Mass course #6000182655\, pdf on this website under Texts after you login.\nEthical Insurance Advising I\, Commercial Insurance\, 3 ethics credits\, Mass course #6000157817\, pdf available on this website under Texts after you login.\n\nAttend the 30 minute Zoom lecture ‘Be Careful What You Wish For Part I’ on March 14 at 10:00 \n\nJoin Zoom Meeting\nhttps://us02web.zoom.us/j/83326385038?pwd=qpa4qOkDeon1fFPLQDuL2McbuGA9HP.1\nGary Fradin will discuss some key structural problems with commercial health insurance.\n\nTake the exams on the 3 texts listed above on this website after the lecture. \n\nAbout 30 minutes / exam. Graded immediately. Retakes available as necessary. Be sure to finish by end-of-work on March 14.\nYou will receive detailed exam access instructions a few days in advance.\n\nThis is Part 1 of an envisioned 2 part CE program. The second part entitled Be Careful What You Wish For Part II\, worth an additional / different 45 CE credits\, will address structural problems with public / single payer health insurance. Tentatively scheduled for 2026. \nMost brokers need 45 credits every 3 years. New brokers need 60. To get additional credits\, add Mistreated by Richard Pearl\, Mass CE course #93761\, 16 credits. Purchase separately on this website. Any excess credits carry forward. \nMoney back guarantee: We will refund your money if\, for any reason\, you do not like this program. This offer extends up to the time we report credits. \n***** \nProcessing your order will take about 15 seconds. Do not refresh or reorder while you wait. The site will tell you when your order is complete. You will also receive confirmation by email.
URL:https://healthinsurancece.com/event/march-14-be-careful-what-you-wish-for-part-1-45-mass-credits-including-ethics/
LOCATION:Zoom\, Your office\, Your city
CATEGORIES:Massachusetts
END:VEVENT
BEGIN:VEVENT
DTSTART;TZID=America/New_York:20250329T100000
DTEND;TZID=America/New_York:20250329T120000
DTSTAMP:20260422T054736
CREATED:20250418T114116Z
LAST-MODIFIED:20250418T114116Z
UID:23379-1743242400-1743249600@healthinsurancece.com
SUMMARY:May 29 - Be Careful What You Wish For Part 1 (24 Wisconsin credits including ethics)
DESCRIPTION:The development of and implications of our commercial healthcare system. Follow this simple 3-step process. \nRead these texts in advance \n\nCommercial Health Ins Issues 21 credits\, Wisconsin course #6000184043\, pdf under Texts on this website\, available after you login.\nEthical Insurance Advising 3 Ethics credits\, Wisconsin course #6000184799\, pdf available on this website under Texts after you login.\n\nAttend the 30 minute Zoom lecture ‘Be Careful What You Wish For Part I’ on May 29 at 10:00 \n\nJoin Zoom Meeting\nhttps://us02web.zoom.us/j/87163936700?pwd=Iyxc6n9xXfXC3W0IdWFVnvKVDb3aNQ.1\nGary Fradin will discuss some key structural problems with commercial health insurance.\n\nTake the exams on the 2 texts after the lecture on this website. \n\nAbout 30 minutes / exam. Graded immediately. Retakes available as necessary. Finish by end-of-work on May 29.\nYou will receive detailed exam access instructions a few days in advance.\n\nThis is Part 1 of an envisioned 2 part CE program. The second part entitled Be Careful What You Wish For Part II\, worth an additional / different 24 CE credits\, will address structural problems with public / single payer health insurance. Tentatively scheduled for 2026 or 2027. \nMoney back guarantee: We will refund your money if\, for any reason\, you do not like this program. This offer extends up to the time we report credits. \n***** \nProcessing your order will take about 15 seconds. Do not refresh or reorder while you wait. The site will tell you when your order is complete. You will also receive confirmation by email.
URL:https://healthinsurancece.com/event/may-29-be-careful-what-you-wish-for-part-1-24-wisconsin-credits-including-ethics/
LOCATION:Zoom\, Your office\, Your city
CATEGORIES:Wisconsin
END:VEVENT
END:VCALENDAR