BEGIN:VCALENDAR
VERSION:2.0
PRODID:-//HealthInsuranceCE - ECPv6.15.11//NONSGML v1.0//EN
CALSCALE:GREGORIAN
METHOD:PUBLISH
X-ORIGINAL-URL:https://healthinsurancece.com
X-WR-CALDESC:Events for HealthInsuranceCE
REFRESH-INTERVAL;VALUE=DURATION:PT1H
X-Robots-Tag:noindex
X-PUBLISHED-TTL:PT1H
BEGIN:VTIMEZONE
TZID:America/New_York
BEGIN:DAYLIGHT
TZOFFSETFROM:-0500
TZOFFSETTO:-0400
TZNAME:EDT
DTSTART:20240310T070000
END:DAYLIGHT
BEGIN:STANDARD
TZOFFSETFROM:-0400
TZOFFSETTO:-0500
TZNAME:EST
DTSTART:20241103T060000
END:STANDARD
BEGIN:DAYLIGHT
TZOFFSETFROM:-0500
TZOFFSETTO:-0400
TZNAME:EDT
DTSTART:20250309T070000
END:DAYLIGHT
BEGIN:STANDARD
TZOFFSETFROM:-0400
TZOFFSETTO:-0500
TZNAME:EST
DTSTART:20251102T060000
END:STANDARD
BEGIN:DAYLIGHT
TZOFFSETFROM:-0500
TZOFFSETTO:-0400
TZNAME:EDT
DTSTART:20260308T070000
END:DAYLIGHT
BEGIN:STANDARD
TZOFFSETFROM:-0400
TZOFFSETTO:-0500
TZNAME:EST
DTSTART:20261101T060000
END:STANDARD
END:VTIMEZONE
BEGIN:VEVENT
DTSTART;TZID=America/New_York:20250205T100000
DTEND;TZID=America/New_York:20250205T120000
DTSTAMP:20260422T072003
CREATED:20241010T211931Z
LAST-MODIFIED:20250213T233423Z
UID:19747-1738749600-1738756800@healthinsurancece.com
SUMMARY:February 5 - Be Careful What You Wish For Part 1 (24 Conn credits including LRE)
DESCRIPTION:The development of and implications of our commercial healthcare system. Follow this simple 3-step ‘like a college course’ process. \nRead these texts \n\nIntro to Commercial Health Ins 16 credits\, Conn course #6000168101\, pdf under Texts on this website\, available after you login.\nFour Ethical Principles 8 LRE credits\, Conn course #6000169302\, pdf available on this website under Texts after you login.\n\nAttend the 30 minute Zoom lecture ‘Be Careful What You Wish For Part I’ on February 5 at 10:00 \n\nJoin Zoom Meeting\nhttps://us02web.zoom.us/j/84420908342?pwd=nftdK3lppas6KP8jKXv7JSbpDMdu7a.1\nGary Fradin will discuss some key structural problems with commercial health insurance.\n\nTake the exams on the 2 texts listed above after the lecture on this website. \n\nAbout 30 minutes / exam. Graded immediately. Retakes available as necessary. Be sure to finish by end-of-work on February 5.\nYou will receive detailed exam access instructions a few days in advance.\n\nThis is Part 1 of an envisioned 2 part CE program. The second part entitled Be Careful What You Wish For Part II\, worth an additional / different 24 CE credits\, will address structural problems with public / single payer health insurance. Tentatively scheduled for 2026. \nMoney back guarantee: We will refund your money if\, for any reason\, you do not like this program. This offer extends up to the time we report credits. \n***** \nProcessing your order will take about 15 seconds. Do not refresh or reorder while you wait. The site will tell you when your order is complete. You will also receive confirmation by email.
URL:https://healthinsurancece.com/event/february-5-be-careful-what-you-wish-for-part-1-24-conn-credits-including-lre/
LOCATION:Zoom\, Your office\, Your city
CATEGORIES:Connecticut
END:VEVENT
BEGIN:VEVENT
DTSTART;TZID=America/New_York:20250205T100000
DTEND;TZID=America/New_York:20250205T120000
DTSTAMP:20260422T072003
CREATED:20241011T124817Z
LAST-MODIFIED:20241011T124817Z
UID:19769-1738749600-1738756800@healthinsurancece.com
SUMMARY:February 5 - Be Careful What You Wish For Part 1 (24 NH credits including ethics)
DESCRIPTION:The development of and implications of our commercial healthcare system. Follow this simple 3-step ‘like a college course’ process. \nRead these texts \n\nIntro to Commercial Health Ins by Gary Fradin\, 21 credits\, NH course #6000168062\, pdf under Gary’s Texts on this website\, available after you login.\nEthical Insurance Advising I by Gary Fradin\, 3 ethics\, NH course #6000170009\, pdf available on this website under Gary’s Texts after you login.\n\nAttend the 30 minute Zoom lecture ‘Be Careful What You Wish For Part I’ on February 5 at 10:00 \n\nJoin Zoom Meeting\nhttps://us02web.zoom.us/j/84420908342?pwd=nftdK3lppas6KP8jKXv7JSbpDMdu7a.1\nGary Fradin will discuss some key structural problems with commercial health insurance.\n\nTake the exams after the lecture on this website. \n\nAbout 30 minutes / exam. Graded immediately. Retakes available as necessary. Be sure to finish by end-of-work on February 5.\nYou will receive detailed exam access instructions a few days in advance.\n\nThis is Part 1 of an envisioned 2 part CE program. The second part entitled Be Careful What You Wish For Part II\, worth an additional / different 24 CE credits\, will address structural problems with public / single payer health insurance. Tentatively scheduled for 2026. \nMoney back guarantee: We will refund your money if\, for any reason\, you do not like this program. This offer extends up to the time we report credits. \n***** \nProcessing your order will take about 15 seconds. Do not refresh or reorder while you wait. The site will tell you when your order is complete. You will also receive confirmation by email.
URL:https://healthinsurancece.com/event/february-5-be-careful-what-you-wish-for-part-1-24-nh-credits-including-ethics/
LOCATION:Zoom\, Your office\, Your city
CATEGORIES:New Hampshire
END:VEVENT
BEGIN:VEVENT
DTSTART;TZID=America/New_York:20250205T100000
DTEND;TZID=America/New_York:20250205T130000
DTSTAMP:20260422T072003
CREATED:20241007T135449Z
LAST-MODIFIED:20250120T172949Z
UID:19485-1738749600-1738760400@healthinsurancece.com
SUMMARY:February 5 - Be Careful What You Wish For Part 1 (45 Mass credits including ethics)
DESCRIPTION:The development of and implications of our commercial healthcare system. Follow this simple 3-step process. \nRead these texts \n\nCommercial Health Ins Issues\, 42 credits\, Mass course #6000182655\, pdf on this website under Texts after you login.\nEthical Insurance Advising I\, Commercial Insurance\, 3 ethics credits\, Mass course #6000157817\, pdf available on this website under Texts after you login.\n\nAttend the 30 minute Zoom lecture ‘Be Careful What You Wish For\, Part 1’ on February 5 at 10:00 \n\nJoin Zoom Meeting\nhttps://us02web.zoom.us/j/84420908342?pwd=nftdK3lppas6KP8jKXv7JSbpDMdu7a.1\nGary Fradin will discuss some key structural problems with commercial health insurance.\n\nTake the exams on the 2 texts listed above after the lecture on this website. \n\nAbout 30 minutes / exam. Graded immediately. Retakes available as necessary. Be sure to finish by end-of-work on February 5.\nYou will receive detailed exam access instructions a few days in advance.\n\nThis is Part 1 of an envisioned 2 part CE program. The second part entitled Be Careful What You Wish For Part II\, worth an additional / different 45 CE credits\, will address structural problems with public / single payer health insurance. Tentatively scheduled for 2026. \nMost brokers need 45 credits every 3 years. New brokers need 60. To get additional credits\, add Mistreated by Richard Pearl\, Mass CE course #93761\, 16 credits. Purchase separately on this website. Any excess credits carry forward. \nMoney back guarantee: We will refund your money if\, for any reason\, you do not like this program. This offer extends up to the time we report credits. \n***** \nProcessing your order will take about 15 seconds. Do not refresh or reorder while you wait. The site will tell you when your order is complete. You will also receive confirmation by email.
URL:https://healthinsurancece.com/event/february-5-be-careful-what-you-wish-for-part-1-45-mass-credits-including-ethics/
LOCATION:Zoom\, Your office\, Your city
CATEGORIES:Massachusetts
END:VEVENT
BEGIN:VEVENT
DTSTART;TZID=America/New_York:20250228T100000
DTEND;TZID=America/New_York:20250228T120000
DTSTAMP:20260422T072003
CREATED:20241011T121929Z
LAST-MODIFIED:20250130T153748Z
UID:19755-1740736800-1740744000@healthinsurancece.com
SUMMARY:February 28 - Be Careful What You Wish For Part 1 (24 Conn credits including LRE)
DESCRIPTION:The development of and implications of our commercial healthcare system. Follow this simple 3-step ‘like a college course’ process. \nRead these texts in advance \n\nIntro to Commercial Health Ins 16 credits\, Conn course #6000168101\, pdf under Texts on this website\, available after you login.\nFour Ethical Principles 8 LRE credits\, Conn course #6000169302\, pdf available on this website under Texts after you login.\n\nAttend the 30 minute Zoom lecture ‘Be Careful What You Wish For Part I’ on February 28 at 10:00 \n\nJoin Zoom Meeting\nhttps://us02web.zoom.us/j/83894562340?pwd=KA2dYvlJWfRhYpawmgraz7oVn5VvAm.1\nGary Fradin will discuss some key structural problems with commercial health insurance.\n\nTake the exams on the 2 texts after the lecture on this website. \n\nAbout 30 minutes / exam. Graded immediately. Retakes available as necessary. Be sure to finish by end-of-work on February 28.\nYou will receive detailed exam access instructions a few days in advance.\n\nThis is Part 1 of an envisioned 2 part CE program. The second part entitled Be Careful What You Wish For Part II\, worth an additional / different 24 CE credits\, will address structural problems with public / single payer health insurance. Tentatively scheduled for 2026. \nMoney back guarantee: We will refund your money if\, for any reason\, you do not like this program. This offer extends up to the time we report credits. \n***** \nProcessing your order will take about 15 seconds. Do not refresh or reorder while you wait. The site will tell you when your order is complete. You will also receive confirmation by email.
URL:https://healthinsurancece.com/event/february-28-be-careful-what-you-wish-for-part-1-24-conn-credits-including-lre/
LOCATION:Zoom\, Your office\, Your city
CATEGORIES:Connecticut
END:VEVENT
BEGIN:VEVENT
DTSTART;TZID=America/New_York:20250228T100000
DTEND;TZID=America/New_York:20250228T130000
DTSTAMP:20260422T072003
CREATED:20241007T140520Z
LAST-MODIFIED:20250228T140242Z
UID:19489-1740736800-1740747600@healthinsurancece.com
SUMMARY:February 28 - Be Careful What You Wish For Part 1 (45 Mass credits including ethics)
DESCRIPTION:The development of and implications of our commercial healthcare system. Follow this simple 3-step process. \nRead these texts \n\nCommercial Health Ins Issues\, 42 credits\, Mass course #6000182655\, pdf on this website under Texts after you login.\nEthical Insurance Advising I\, Commercial Insurance\, 3 ethics credits\, Mass course #6000157817\, pdf available on this website under Texts after you login.\n\nAttend the 30 minute Zoom lecture ‘Be Careful What You Wish For Part I’ on February 28 at 10:00 \n\nJoin Zoom Meeting\nhttps://us02web.zoom.us/j/83894562340?pwd=KA2dYvlJWfRhYpawmgraz7oVn5VvAm.1\nGary Fradin will discuss some key structural problems with commercial health insurance.\n\nTake the exams on the 2 texts listed above on this website after the lecture. \n\nAbout 30 minutes / exam. Graded immediately. Retakes available as necessary. Be sure to finish by end-of-work on February 28.\nYou will receive detailed exam access instructions a few days in advance.\n\nThis is Part 1 of an envisioned 2 part CE program. The second part entitled Be Careful What You Wish For Part II\, worth an additional / different 45 CE credits\, will address structural problems with public / single payer health insurance. Tentatively scheduled for 2026. \nMost brokers need 45 credits every 3 years. New brokers need 60. To get additional credits\, add Mistreated by Richard Pearl\, Mass CE course #93761\, 16 credits. Purchase separately on this website. Any excess credits carry forward. \nMoney back guarantee: We will refund your money if\, for any reason\, you do not like this program. This offer extends up to the time we report credits. \n***** \nProcessing your order will take about 15 seconds. Do not refresh or reorder while you wait. The site will tell you when your order is complete. You will also receive confirmation by email.
URL:https://healthinsurancece.com/event/february-25-be-careful-what-you-wish-for-part-1-45-mass-credits-including-ethics/
LOCATION:Zoom\, Your office\, Your city
CATEGORIES:Massachusetts
END:VEVENT
END:VCALENDAR