BEGIN:VCALENDAR
VERSION:2.0
PRODID:-//HealthInsuranceCE - ECPv6.15.11//NONSGML v1.0//EN
CALSCALE:GREGORIAN
METHOD:PUBLISH
X-ORIGINAL-URL:https://healthinsurancece.com
X-WR-CALDESC:Events for HealthInsuranceCE
REFRESH-INTERVAL;VALUE=DURATION:PT1H
X-Robots-Tag:noindex
X-PUBLISHED-TTL:PT1H
BEGIN:VTIMEZONE
TZID:America/New_York
BEGIN:DAYLIGHT
TZOFFSETFROM:-0500
TZOFFSETTO:-0400
TZNAME:EDT
DTSTART:20230312T070000
END:DAYLIGHT
BEGIN:STANDARD
TZOFFSETFROM:-0400
TZOFFSETTO:-0500
TZNAME:EST
DTSTART:20231105T060000
END:STANDARD
BEGIN:DAYLIGHT
TZOFFSETFROM:-0500
TZOFFSETTO:-0400
TZNAME:EDT
DTSTART:20240310T070000
END:DAYLIGHT
BEGIN:STANDARD
TZOFFSETFROM:-0400
TZOFFSETTO:-0500
TZNAME:EST
DTSTART:20241103T060000
END:STANDARD
BEGIN:DAYLIGHT
TZOFFSETFROM:-0500
TZOFFSETTO:-0400
TZNAME:EDT
DTSTART:20250309T070000
END:DAYLIGHT
BEGIN:STANDARD
TZOFFSETFROM:-0400
TZOFFSETTO:-0500
TZNAME:EST
DTSTART:20251102T060000
END:STANDARD
END:VTIMEZONE
BEGIN:VEVENT
DTSTART;TZID=America/New_York:20240827T100000
DTEND;TZID=America/New_York:20240827T130000
DTSTAMP:20260422T170416
CREATED:20240402T152108Z
LAST-MODIFIED:20240716T123429Z
UID:18935-1724752800-1724763600@healthinsurancece.com
SUMMARY:August 27 - Understanding Obesity and Diabetes (45 Mass credits including ethics)
DESCRIPTION:Step 1: Read the following texts in advance. Available on this website under Gary’s Texts after you login. \n\nHealth Ins Risks and Reforms course #6000134515\, 42 credits.\nEthical Issues II\, Mass course #6000136953\, 3 ethics credits.\n\nStep 2: Attend Gary Fradin’s 40 minute Zoom Lecture ‘Why Diabesity Persists’ on August 27 at 10:00. \nJoin Zoom Meeting\nhttps://us02web.zoom.us/j/85997713769?pwd=M25PT2p5L05QTWZJSmtZb2xhVk1HZz09 \nGary will explain why diabesity – perhaps 25% of all healthcare spending – persists despite our efforts to address it. \nStep 3: Take the Exams on the 2 texts after the lecture. Finish by 6:00 PM.  \nTake the exams on this website\, about 45 +/- minutes each. Graded immediately. Retakes available as necessary. Finish by end-of-work on August 27. \nYou will receive detailed exam access instructions a day before class. \nExcess credits carry forward to your next license period. \nMost brokers need 45 credits every 3 years. New brokers need 60. To get additional credits\, add Mistreated by Richard Pearl\, Mass CE course #93761\, 16 credits. Purchase the exam separately on this website. Excess credits carry forward. \nMoney back guarantee: We will refund your money if\, for any reason\, you do not like this program. This offer extends up to the time we report credits. \n***** \nProcessing your order will take about 15 seconds. Do not refresh or reorder while you wait. The site will tell you when your order is complete. You will also receive confirmation by email.
URL:https://healthinsurancece.com/event/august-15-understanding-diabetes-and-obesity-45-mass-credits-including-ethics/
LOCATION:Zoom\, Your office\, Your city
CATEGORIES:Massachusetts
END:VEVENT
END:VCALENDAR