BEGIN:VCALENDAR
VERSION:2.0
PRODID:-//HealthInsuranceCE - ECPv6.15.11//NONSGML v1.0//EN
CALSCALE:GREGORIAN
METHOD:PUBLISH
X-WR-CALNAME:HealthInsuranceCE
X-ORIGINAL-URL:https://healthinsurancece.com
X-WR-CALDESC:Events for HealthInsuranceCE
REFRESH-INTERVAL;VALUE=DURATION:PT1H
X-Robots-Tag:noindex
X-PUBLISHED-TTL:PT1H
BEGIN:VTIMEZONE
TZID:America/New_York
BEGIN:DAYLIGHT
TZOFFSETFROM:-0500
TZOFFSETTO:-0400
TZNAME:EDT
DTSTART:20230312T070000
END:DAYLIGHT
BEGIN:STANDARD
TZOFFSETFROM:-0400
TZOFFSETTO:-0500
TZNAME:EST
DTSTART:20231105T060000
END:STANDARD
BEGIN:DAYLIGHT
TZOFFSETFROM:-0500
TZOFFSETTO:-0400
TZNAME:EDT
DTSTART:20240310T070000
END:DAYLIGHT
BEGIN:STANDARD
TZOFFSETFROM:-0400
TZOFFSETTO:-0500
TZNAME:EST
DTSTART:20241103T060000
END:STANDARD
BEGIN:DAYLIGHT
TZOFFSETFROM:-0500
TZOFFSETTO:-0400
TZNAME:EDT
DTSTART:20250309T070000
END:DAYLIGHT
BEGIN:STANDARD
TZOFFSETFROM:-0400
TZOFFSETTO:-0500
TZNAME:EST
DTSTART:20251102T060000
END:STANDARD
END:VTIMEZONE
BEGIN:VEVENT
DTSTART;TZID=America/New_York:20240710T100000
DTEND;TZID=America/New_York:20240710T123000
DTSTAMP:20260422T184037
CREATED:20240402T142711Z
LAST-MODIFIED:20240716T123432Z
UID:18924-1720605600-1720614600@healthinsurancece.com
SUMMARY:July 10 - Understanding Diabetes and Obesity (24 Conn credits including ethics)
DESCRIPTION:Step 1: Read the following texts in advance. Available on this website under Gary’s Texts after you login. \n\nHealth Ins Risks and Reforms Conn course #6000136237\, 18 credits.\nThree Ethical Principles\, Conn course #6000137258\, 8 ethics credits.\n\nStep 2: Attend Gary Fradin’s 40 minute Zoom Lecture ‘Why Diabesity Persists’ on July 10 at 10:00. \nJoin Zoom Meeting\nhttps://us02web.zoom.us/j/86420024389?pwd=dnZtSVUrMmFPV1NBQkxEZi94NTZHUT09 \nGary will explain why diabesity – perhaps 25% of all healthcare spending – persists despite our efforts to address it. \nStep 3: Take the Exams on the 2 texts after the lecture. Finish by 6:00 PM.  \nTake the exams on this website\, about 25 +/- minutes each. Graded immediately. Retakes available as necessary. Finish by end-of-work on July 10. \nYou will receive detailed exam access instructions a day before class. \nMoney back guarantee: We will refund your money if\, for any reason\, you do not like this program. This offer extends up to the time we report credits. \n***** \nProcessing your order will take about 15 seconds. Do not refresh or reorder while you wait. The site will tell you when your order is complete. You will also receive confirmation by email.
URL:https://healthinsurancece.com/event/july-10-understanding-diabetes-and-obesity-24-conn-credits-including-ethics/
LOCATION:Zoom\, Your office\, Your city
CATEGORIES:Connecticut
END:VEVENT
BEGIN:VEVENT
DTSTART;TZID=America/New_York:20240710T100000
DTEND;TZID=America/New_York:20240710T123000
DTSTAMP:20260422T184037
CREATED:20240402T143526Z
LAST-MODIFIED:20240716T123431Z
UID:18927-1720605600-1720614600@healthinsurancece.com
SUMMARY:July 10 - Understanding Diabetes and Obesity (24 NH credits including ethics)
DESCRIPTION:Step 1: Read the following texts in advance. Available on this website under Gary’s Texts after you login. \n\nHealth Ins Risks and Reforms\,  New Hampshire course #6000137080\, 21 credits.\nEthical Issues II\, New Hampshire course #6000138684\, 3 ethics credits.\n\nStep 2: Attend Gary Fradin’s 40 minute Zoom Lecture ‘Why Diabesity Persists’ on July 10 at 10:00. \nJoin Zoom Meeting\nhttps://us02web.zoom.us/j/86420024389?pwd=dnZtSVUrMmFPV1NBQkxEZi94NTZHUT09 \nGary will explain why diabesity – perhaps 25% of all healthcare spending – persists despite our efforts to address it. \nStep 3: Take the Exams on the 2 texts after the lecture. Finish by 6:00 PM.  \nTake the exams on this website\, about 25 +/- minutes each. Graded immediately. Retakes available as necessary. Finish by end-of-work on July 10. \nYou will receive detailed exam access instructions a day before class. \nMoney back guarantee: We will refund your money if\, for any reason\, you do not like this program. This offer extends up to the time we report credits. \n***** \nProcessing your order will take about 15 seconds. Do not refresh or reorder while you wait. The site will tell you when your order is complete. You will also receive confirmation by email.
URL:https://healthinsurancece.com/event/july-10-understanding-diabetes-and-obesity-24-nh-credits-including-ethics/
LOCATION:Zoom\, Your office\, Your city
CATEGORIES:New Hampshire
END:VEVENT
BEGIN:VEVENT
DTSTART;TZID=America/New_York:20240710T100000
DTEND;TZID=America/New_York:20240710T130000
DTSTAMP:20260422T184037
CREATED:20240402T141835Z
LAST-MODIFIED:20240716T123430Z
UID:18921-1720605600-1720616400@healthinsurancece.com
SUMMARY:July 10 - Understanding Obesity and Diabetes (45 Mass credits including ethics)
DESCRIPTION:Step 1: Read the following texts in advance. Available on this website under Gary’s Texts after you login. \n\nHealth Ins Risks and Reforms course #6000134515\, 42 credits.\nEthical Issues II\, Mass course #6000136953\, 3 ethics credits.\n\nStep 2: Attend Gary Fradin’s 40 minute Zoom Lecture ‘Why Diabesity Persists’ on July 10 at 10:00. \nJoin Zoom Meeting\nhttps://us02web.zoom.us/j/86420024389?pwd=dnZtSVUrMmFPV1NBQkxEZi94NTZHUT09 \nGary will explain why diabesity – perhaps 25% of all healthcare spending – persists despite our efforts to address it. \nStep 3: Take the Exams on the 2 texts after the lecture. Finish by 6:00 PM.  \nTake the exams on this website\, about 45 +/- minutes each. Graded immediately. Retakes available as necessary. Finish by end-of-work on July 10. \nYou will receive detailed exam access instructions a day before class. \nExcess credits carry forward to your next license period. \nMost brokers need 45 credits every 3 years. New brokers need 60. To get additional credits\, add Mistreated by Richard Pearl\, Mass CE course #93761\, 16 credits. Purchase the exam separately on this website. Excess credits carry forward. \nMoney back guarantee: We will refund your money if\, for any reason\, you do not like this program. This offer extends up to the time we report credits. \n***** \nProcessing your order will take about 15 seconds. Do not refresh or reorder while you wait. The site will tell you when your order is complete. You will also receive confirmation by email.
URL:https://healthinsurancece.com/event/july-10-understanding-diabetes-and-obesity-45-mass-credits-including-ethics/
LOCATION:Zoom\, Your office\, Your city
CATEGORIES:Massachusetts
END:VEVENT
BEGIN:VEVENT
DTSTART;TZID=America/New_York:20240723T100000
DTEND;TZID=America/New_York:20240723T130000
DTSTAMP:20260422T184037
CREATED:20240402T150555Z
LAST-MODIFIED:20240716T123430Z
UID:18930-1721728800-1721739600@healthinsurancece.com
SUMMARY:July 23 - Understanding Obesity and Diabetes (45 Mass credits including ethics)
DESCRIPTION:First\, read these texts. Available on this website under Gary’s Texts after you login. \n\nHealth Ins Risks and Reforms course #6000134515\, 42 credits.\nEthical Issues II\, Mass course #6000136953\, 3 ethics credits.\n\nSecond\, attend the 45 minute Zoom lecture ‘Understanding Obesity and Diabetes’ on July 23 at 10:00 \n\nJoin Zoom Meeting\nhttps://us02web.zoom.us/j/83553435193?pwd=eXZPNk1VK1BBRDJ3V0hNckJOVElMUT09\nGary Fradin will explain why diabesity\, perhaps accounting for 25% of all healthcare spending\, persists despite our efforts to prevent it.\n\nThird\, take the exams on the 2 texts listed above on this website. \n\nAbout 40 minutes / exam. Graded immediately. Retakes available as necessary. Be sure to finish by end-of-work on July 23.\nYou will receive detailed exam access instructions a few days in advance.\n\nMost brokers need 45 credits every 3 years. New brokers need 60. To get additional credits\, add Mistreated by Richard Pearl\, Mass CE course #93761\, 16 credits. Purchase separately on this website. Any excess credits carry forward. \nMoney back guarantee: We will refund your money if\, for any reason\, you do not like this program. This offer extends up to the time we report credits. \n***** \nProcessing your order will take about 15 seconds. Do not refresh or reorder while you wait. The site will tell you when your order is complete. You will also receive confirmation by email.
URL:https://healthinsurancece.com/event/july-16-be-careful-what-you-wish-for-part-1-45-mass-credits-including-ethics/
LOCATION:Zoom\, Your office\, Your city
CATEGORIES:Massachusetts
END:VEVENT
END:VCALENDAR