BEGIN:VCALENDAR
VERSION:2.0
PRODID:-//HealthInsuranceCE - ECPv6.15.11//NONSGML v1.0//EN
CALSCALE:GREGORIAN
METHOD:PUBLISH
X-WR-CALNAME:HealthInsuranceCE
X-ORIGINAL-URL:https://healthinsurancece.com
X-WR-CALDESC:Events for HealthInsuranceCE
REFRESH-INTERVAL;VALUE=DURATION:PT1H
X-Robots-Tag:noindex
X-PUBLISHED-TTL:PT1H
BEGIN:VTIMEZONE
TZID:America/New_York
BEGIN:DAYLIGHT
TZOFFSETFROM:-0500
TZOFFSETTO:-0400
TZNAME:EDT
DTSTART:20230312T070000
END:DAYLIGHT
BEGIN:STANDARD
TZOFFSETFROM:-0400
TZOFFSETTO:-0500
TZNAME:EST
DTSTART:20231105T060000
END:STANDARD
BEGIN:DAYLIGHT
TZOFFSETFROM:-0500
TZOFFSETTO:-0400
TZNAME:EDT
DTSTART:20240310T070000
END:DAYLIGHT
BEGIN:STANDARD
TZOFFSETFROM:-0400
TZOFFSETTO:-0500
TZNAME:EST
DTSTART:20241103T060000
END:STANDARD
BEGIN:DAYLIGHT
TZOFFSETFROM:-0500
TZOFFSETTO:-0400
TZNAME:EDT
DTSTART:20250309T070000
END:DAYLIGHT
BEGIN:STANDARD
TZOFFSETFROM:-0400
TZOFFSETTO:-0500
TZNAME:EST
DTSTART:20251102T060000
END:STANDARD
END:VTIMEZONE
BEGIN:VEVENT
DTSTART;TZID=America/New_York:20240604T100000
DTEND;TZID=America/New_York:20240604T130000
DTSTAMP:20260422T195729
CREATED:20240122T163251Z
LAST-MODIFIED:20240716T123435Z
UID:17977-1717495200-1717506000@healthinsurancece.com
SUMMARY:June 4 - CE program Mass - Be Careful What You Wish For Part I (45 credits including ethics)
DESCRIPTION:This program is free for people who use the special Blue Cross code when they register.\nLogin to this website and register below. Then follow these steps. \nRead these texts \n\nEnsuring America’s Health by Christy Ford Chapin\, 14 credits\, Mass course #93826\, available from amazon.com  as kindle (rent or buy) and paperback.\nThe Social Transformation of American Medicine by Paul Starr\, 28 credits\, Mass course #57041\, available from amazon.com as paperback\, kindle and audiobook\, and from hoopla\, the free Massachusetts library app. This classic won a Pulitzer Prize.\nEthical Insurance Advising I\, Commercial Insurance by Gary Fradin\, 3 ethics credits\, Mass course #6000157817\, pdf available on this website under Gary’s Texts after you login.\n\nAttend Gary Fradin’s 45 minute Zoom lecture ‘Be Careful What You Wish For Part I’ on June 4 at 10:00 \n\nYou will receive a personalized Zoom link directly from Blue Cross.\nGary will discuss some key structural problems with commercial health insurance.\n\nTake the exams on the 3 texts listed above. \n\nTake the exams on this website\, about 30 minutes each. Graded immediately. Retakes available as necessary. Finish by midnight on Friday\, June 7.\nYou will receive detailed exam access instructions about a week in advance.\n\nNote that this is Part 1 of an envisioned 2 part CE program. The second part entitled Be Careful What You Wish For Part II\, worth an additional / different 45 CE credits\, will address structural problems with public / single payer health insurance. Tentatively scheduled for June 2025 or 2026.
URL:https://healthinsurancece.com/event/june-4-ce-program-mass-be-careful-what-you-wish-for-i-45-credits-including-ethics/
CATEGORIES:Massachusetts
END:VEVENT
BEGIN:VEVENT
DTSTART;TZID=America/New_York:20240614T100000
DTEND;TZID=America/New_York:20240614T120000
DTSTAMP:20260422T195729
CREATED:20240104T223358Z
LAST-MODIFIED:20240716T123434Z
UID:17671-1718359200-1718366400@healthinsurancece.com
SUMMARY:June 14 - CE program Connecticut - Understanding Obesity and Diabetes (24 credits including ethics)
DESCRIPTION:Step 1: Read the following texts in advance. Available on this website under Gary’s Texts after you login. \n\nHealth Ins Risks and Reforms Conn course #6000136237\, 18 credits.\nThree Ethical Principles\, Conn course #6000137258\, 8 ethics credits.\n\nStep 2: Attend Gary Fradin’s 40 minute Zoom Lecture ‘Why Diabesity Persists’ on June 14 at 10:00. \nJoin Zoom Meeting\nhttps://us02web.zoom.us/j/83566103487?pwd=aXBNYU5MRzQybW1SSGNFRTJtOFRiQT09 \nGary will explain why diabesity – perhaps 25% of all healthcare spending – persists despite our efforts to address it. \nStep 3: Take the Exams on the 2 texts after the lecture. Finish by 6:00 PM.  \nTake the exams on this website\, about 25 +/- minutes each. Graded immediately. Retakes available as necessary. Finish by end-of-work on June 14. \nYou will receive detailed exam access instructions a day before class. \nMoney back guarantee: We will refund your money if\, for any reason\, you do not like this program. This offer extends up to the time we report credits. \n***** \nProcessing your order will take about 15 seconds. Do not refresh or reorder while you wait. The site will tell you when your order is complete. You will also receive confirmation by email.
URL:https://healthinsurancece.com/event/june-14-ce-program-connecticut-understanding-obesity-and-diabetes-24-credits-including-ethics/
LOCATION:Zoom\, Your office\, Your city
CATEGORIES:Connecticut
END:VEVENT
BEGIN:VEVENT
DTSTART;TZID=America/New_York:20240614T100000
DTEND;TZID=America/New_York:20240614T130000
DTSTAMP:20260422T195729
CREATED:20240104T222810Z
LAST-MODIFIED:20240716T123433Z
UID:17668-1718359200-1718370000@healthinsurancece.com
SUMMARY:June 14 - CE program Mass - Understanding Obesity and Diabetes (45 credits including ethics)
DESCRIPTION:Step 1: Read the following texts in advance. Available on this website under Gary’s Texts after you login. \n\nHealth Ins Risks and Reforms course #6000134515\, 42 credits.\nEthical Issues II\, Mass course #6000136953\, 3 ethics credits.\n\nStep 2: Attend Gary Fradin’s 40 minute Zoom Lecture ‘Why Diabesity Persists’ on June 14 at 10:00. \nJoin Zoom Meeting\nhttps://us02web.zoom.us/j/83566103487?pwd=aXBNYU5MRzQybW1SSGNFRTJtOFRiQT09 \nGary will explain why diabesity – perhaps 25% of all healthcare spending – persists despite our efforts to address it. \nStep 3: Take the Exams on the 2 texts after the lecture. Finish by 6:00 PM.  \nTake the exams on this website\, about 45 +/- minutes each. Graded immediately. Retakes available as necessary. Finish by end-of-work on June 14. \nYou will receive detailed exam access instructions a day before class. \nExcess credits carry forward to your next license period. \nMost brokers need 45 credits every 3 years. New brokers need 60. To get additional credits\, add Mistreated by Richard Pearl\, Mass CE course #93761\, 16 credits. Purchase the exam separately on this website. Excess credits carry forward. \nMoney back guarantee: We will refund your money if\, for any reason\, you do not like this program. This offer extends up to the time we report credits. \n***** \nProcessing your order will take about 15 seconds. Do not refresh or reorder while you wait. The site will tell you when your order is complete. You will also receive confirmation by email.
URL:https://healthinsurancece.com/event/june-14-ce-program-mass-understanding-obesity-and-diabetes-45-credits-including-ethics/
LOCATION:Zoom\, Your office\, Your city
CATEGORIES:Massachusetts
END:VEVENT
BEGIN:VEVENT
DTSTART;TZID=America/New_York:20240625T100000
DTEND;TZID=America/New_York:20240625T130000
DTSTAMP:20260422T195729
CREATED:20240104T224329Z
LAST-MODIFIED:20240716T123433Z
UID:17676-1719309600-1719320400@healthinsurancece.com
SUMMARY:June 25 - CE program Mass - Understanding Obesity and Diabetes (45 credits including ethics)
DESCRIPTION:Step 1: Read the following texts in advance. Available on this website under Gary’s Texts after you login. \n\nHealth Ins Risks and Reforms course #6000134515\, 42 credits.\nEthical Issues II\, Mass course #6000136953\, 3 ethics credits.\n\nStep 2: Attend Gary Fradin’s 40 minute Zoom Lecture ‘Why Diabesity Persists’ on June 25 at 10:00. \nJoin Zoom Meeting\nhttps://us02web.zoom.us/j/83395373849?pwd=eEJ0ZzdnNGpDUW5Bbkt1M2lsY05pZz09 \nGary will explain why diabesity – perhaps 25% of all healthcare spending – persists despite our efforts to address it. \nStep 3: Take the Exams on the 2 texts after the lecture. Finish by 6:00 PM.  \nTake the exams on this website\, about 45 +/- minutes each. Graded immediately. Retakes available as necessary. Finish by end-of-work on June 25. \nYou will receive detailed exam access instructions a day before class. \nExcess credits carry forward to your next license period. \nMost brokers need 45 credits every 3 years. New brokers need 60. To get additional credits\, add Mistreated by Richard Pearl\, Mass CE course #93761\, 16 credits. Purchase the exam separately on this website. Excess credits carry forward. \nMoney back guarantee: We will refund your money if\, for any reason\, you do not like this program. This offer extends up to the time we report credits. \n***** \nProcessing your order will take about 15 seconds. Do not refresh or reorder while you wait. The site will tell you when your order is complete. You will also receive confirmation by email.
URL:https://healthinsurancece.com/event/june-25-ce-program-mass-understanding-obesity-and-diabetes-45-credits-including-ethics/
LOCATION:Zoom\, Your office\, Your city
CATEGORIES:Massachusetts
END:VEVENT
END:VCALENDAR