BEGIN:VCALENDAR
VERSION:2.0
PRODID:-//HealthInsuranceCE - ECPv6.15.11//NONSGML v1.0//EN
CALSCALE:GREGORIAN
METHOD:PUBLISH
X-WR-CALNAME:HealthInsuranceCE
X-ORIGINAL-URL:https://healthinsurancece.com
X-WR-CALDESC:Events for HealthInsuranceCE
REFRESH-INTERVAL;VALUE=DURATION:PT1H
X-Robots-Tag:noindex
X-PUBLISHED-TTL:PT1H
BEGIN:VTIMEZONE
TZID:America/New_York
BEGIN:DAYLIGHT
TZOFFSETFROM:-0500
TZOFFSETTO:-0400
TZNAME:EDT
DTSTART:20230312T070000
END:DAYLIGHT
BEGIN:STANDARD
TZOFFSETFROM:-0400
TZOFFSETTO:-0500
TZNAME:EST
DTSTART:20231105T060000
END:STANDARD
BEGIN:DAYLIGHT
TZOFFSETFROM:-0500
TZOFFSETTO:-0400
TZNAME:EDT
DTSTART:20240310T070000
END:DAYLIGHT
BEGIN:STANDARD
TZOFFSETFROM:-0400
TZOFFSETTO:-0500
TZNAME:EST
DTSTART:20241103T060000
END:STANDARD
BEGIN:DAYLIGHT
TZOFFSETFROM:-0500
TZOFFSETTO:-0400
TZNAME:EDT
DTSTART:20250309T070000
END:DAYLIGHT
BEGIN:STANDARD
TZOFFSETFROM:-0400
TZOFFSETTO:-0500
TZNAME:EST
DTSTART:20251102T060000
END:STANDARD
END:VTIMEZONE
BEGIN:VEVENT
DTSTART;TZID=America/New_York:20240208T100000
DTEND;TZID=America/New_York:20240208T130000
DTSTAMP:20260423T015950
CREATED:20231002T145556Z
LAST-MODIFIED:20240201T225247Z
UID:17478-1707386400-1707397200@healthinsurancece.com
SUMMARY:February 8 - CE program Massachusetts - Why Diabesity Persists (45 credits including ethics)
DESCRIPTION:Join Zoom Meeting\nhttps://us02web.zoom.us/j/88422997890?pwd=aWdjK2ZTV2FsdjZoVUQyVnpvT3ErZz09 \n40 minute lecture Why Diabesity Persists. \nGary Fradin will explain why diabesity – perhaps 25% of all healthcare spending – persists despite our efforts to address it. \nAfter the lecture\, take the Self Study exams below. You must read the texts in advance. Available on this website under Gary’s Texts after you login. \n\nHealth Ins Risks and Reforms Mass course #6000134515\, 42 credits.\nEthical Issues II\, Mass course #6000136953\, 3 ethics credits.\n\nTake the exams on this website after the lecture\, about 45 +/- minutes each. Graded immediately. Retakes available as necessary. You will receive detailed exam access instructions a day before class. \nExcess credits carry forward to your next license period. \nMost brokers need 45 credits every 3 years. New brokers need 60. To get additional credits\, add Mistreated by Richard Pearl\, Mass CE course #93761\, 16 credits. Purchase the exam separately on this website. Excess credits carry forward. \nMoney back guarantee: We will refund your money if\, for any reason\, you do not like this program. This offer extends up to the time we report credits. \n***** \nProcessing your order will take about 15 seconds. Do not refresh or reorder while you wait. The site will tell you when your order is complete. You will also receive confirmation by email.
URL:https://healthinsurancece.com/event/february-8-ce-program-massachusetts-why-diabesity-persists-45-credits-including-ethics/
LOCATION:Zoom\, Your office\, Your city
CATEGORIES:Massachusetts
END:VEVENT
BEGIN:VEVENT
DTSTART;TZID=America/New_York:20240223T100000
DTEND;TZID=America/New_York:20240223T120000
DTSTAMP:20260423T015950
CREATED:20231002T151801Z
LAST-MODIFIED:20231002T151801Z
UID:17491-1708682400-1708689600@healthinsurancece.com
SUMMARY:February 23 - CE program Connecticut - Why Diabesity Persists (24 credits including LRE)
DESCRIPTION:Join Zoom Meeting\nhttps://us02web.zoom.us/j/89336486387?pwd=YkhSNW11eWdLcEliK01ranFiU0Q4UT09 \n40 minute lecture Why Diabesity Persists. \nGary Fradin will explain why diabesity – perhaps 25% of all healthcare spending – persists despite programs aimed to ameliorate it. \nAfter the lecture\, take the Self Study exams below. You must read the texts in advance. Available on this website under Gary’s Texts after you login. \n\nHealth Ins Risks and Reforms Conn course #6000136237\, 18 credits.\nThree Ethical Principles\, Conn course #6000137258\, 8 ethics credits.\n\nTake the exams on this website after the lecture\, about 20 +/- minutes each. Graded immediately. Retakes available as necessary. You will receive detailed exam access instructions a day before class. \nMoney back guarantee: We will refund your money if\, for any reason\, you do not like this program. This offer extends up to the time we report credits. \n***** \nProcessing your order will take about 15 seconds. Do not refresh or reorder while you wait. The site will tell you when your order is complete. You will also receive confirmation by email.
URL:https://healthinsurancece.com/event/february-23-ce-program-connecticut-why-diabesity-persists-24-credits-including-lre/
LOCATION:Zoom\, Your office\, Your city
CATEGORIES:Connecticut
END:VEVENT
BEGIN:VEVENT
DTSTART;TZID=America/New_York:20240223T100000
DTEND;TZID=America/New_York:20240223T120000
DTSTAMP:20260423T015950
CREATED:20231002T153602Z
LAST-MODIFIED:20231002T153830Z
UID:17495-1708682400-1708689600@healthinsurancece.com
SUMMARY:February 23 - CE program NH - Why Diabesity Persists (24 credits including ethics)
DESCRIPTION:Join Zoom Meeting\nhttps://us02web.zoom.us/j/81131459416?pwd=MUtHR3EwSEc1SUdOSkM0NVRBT05oQT09 \n45 minute lecture Why Diabesity Persists \n\nSome 25% of all US healthcare spending goes to people with diabetes. We know how to prevent the disease. Gary Fradin will explain why we don’t.\n\nAfter the lecture\, take the Self Study exams below. You must read the texts in advance. You will not be permitted to take the exams otherwise. Available from amazon.com \n\nHealth Ins Risks and Reforms\,  New Hampshire course #6000137080\, 21 credits\, PDF available on this website under Gary’s Texts after you login.\nEthical Issues II\, New Hampshire course #6000138684\, 3 ethics credits\, PDF available on this website under Gary’s Texts after you login.\n\nTake the exams on this website after the lecture\, about 20 +/- minutes each. Graded immediately. Retakes available as necessary. You will receive detailed exam access instructions a day before class. \nMoney back guarantee: We will refund your money if\, for any reason\, you do not like this program. This offer extends up to the time we report credits.
URL:https://healthinsurancece.com/event/february-23-ce-program-nh-why-diabesity-persists-24-credits-including-ethics/
LOCATION:Zoom\, Your office\, Your city
CATEGORIES:New Hampshire
END:VEVENT
BEGIN:VEVENT
DTSTART;TZID=America/New_York:20240223T100000
DTEND;TZID=America/New_York:20240223T130000
DTSTAMP:20260423T015950
CREATED:20231002T150024Z
LAST-MODIFIED:20240201T215028Z
UID:17481-1708682400-1708693200@healthinsurancece.com
SUMMARY:February 23 - CE program Massachusetts - Why Diabesity Persists (45 credits including ethics)
DESCRIPTION:Join Zoom Meeting\nhttps://us02web.zoom.us/j/81131459416?pwd=MUtHR3EwSEc1SUdOSkM0NVRBT05oQT09 \n40 minute lecture Why Diabesity Persists. \nGary Fradin will explain why diabesity – perhaps 25% of all healthcare spending – persists despite our efforts to address it. \nAfter the lecture\, take the Self Study exams below. You must read the texts in advance. Available on this website under Gary’s Texts after you login. \n\nHealth Ins Risks and Reforms Mass course #6000134515\, 42 credits.\nEthical Issues II\, Mass course #6000136953\, 3 ethics credits.\n\nTake the exams on this website after the lecture\, about 45 +/- minutes each. Graded immediately. Retakes available as necessary. You will receive detailed exam access instructions a day before class. \nExcess credits carry forward to your next license period. \nMost brokers need 45 credits every 3 years. New brokers need 60. To get additional credits\, add Mistreated by Richard Pearl\, Mass CE course #93761\, 16 credits. Purchase the exam separately on this website. Excess credits carry forward. \nMoney back guarantee: We will refund your money if\, for any reason\, you do not like this program. This offer extends up to the time we report credits. \n***** \nProcessing your order will take about 15 seconds. Do not refresh or reorder while you wait. The site will tell you when your order is complete. You will also receive confirmation by email.
URL:https://healthinsurancece.com/event/february-23-ce-program-massachusetts-why-diabesity-persists-45-credits-including-ethics/
LOCATION:Zoom\, Your office\, Your city
CATEGORIES:Massachusetts
END:VEVENT
END:VCALENDAR