BEGIN:VCALENDAR
VERSION:2.0
PRODID:-//HealthInsuranceCE - ECPv6.15.11//NONSGML v1.0//EN
CALSCALE:GREGORIAN
METHOD:PUBLISH
X-WR-CALNAME:HealthInsuranceCE
X-ORIGINAL-URL:https://healthinsurancece.com
X-WR-CALDESC:Events for HealthInsuranceCE
REFRESH-INTERVAL;VALUE=DURATION:PT1H
X-Robots-Tag:noindex
X-PUBLISHED-TTL:PT1H
BEGIN:VTIMEZONE
TZID:America/New_York
BEGIN:DAYLIGHT
TZOFFSETFROM:-0500
TZOFFSETTO:-0400
TZNAME:EDT
DTSTART:20230312T070000
END:DAYLIGHT
BEGIN:STANDARD
TZOFFSETFROM:-0400
TZOFFSETTO:-0500
TZNAME:EST
DTSTART:20231105T060000
END:STANDARD
BEGIN:DAYLIGHT
TZOFFSETFROM:-0500
TZOFFSETTO:-0400
TZNAME:EDT
DTSTART:20240310T070000
END:DAYLIGHT
BEGIN:STANDARD
TZOFFSETFROM:-0400
TZOFFSETTO:-0500
TZNAME:EST
DTSTART:20241103T060000
END:STANDARD
BEGIN:DAYLIGHT
TZOFFSETFROM:-0500
TZOFFSETTO:-0400
TZNAME:EDT
DTSTART:20250309T070000
END:DAYLIGHT
BEGIN:STANDARD
TZOFFSETFROM:-0400
TZOFFSETTO:-0500
TZNAME:EST
DTSTART:20251102T060000
END:STANDARD
END:VTIMEZONE
BEGIN:VEVENT
DTSTART;TZID=America/New_York:20240111T100000
DTEND;TZID=America/New_York:20240111T130000
DTSTAMP:20260423T032055
CREATED:20231015T202653Z
LAST-MODIFIED:20240118T132801Z
UID:17534-1704967200-1704978000@healthinsurancece.com
SUMMARY:January 11 - CE program Mass - Why Diabesity Persists (45 credits including ethics)
DESCRIPTION:Join Zoom Meeting\nhttps://us02web.zoom.us/j/87412306814?pwd=Mi9KUVU1UmpxU1hzNmxtbW11THcwUT09 \n40 minute lecture Why Diabesity Persists. \nGary Fradin will explain why diabesity – perhaps 25% of all healthcare spending – persists despite our efforts to address it. \nAfter the lecture\, take the Self Study exams below. You must read the texts in advance. Available on this website under Gary’s Texts after you login. \n\nHealth Ins Risks and Reforms Mass course #6000134515\, 42 credits.\nEthical Issues II\, Mass course #6000136953\, 3 ethics credits.\n\nTake the exams on this website after the lecture\, about 45 +/- minutes each. Graded immediately. Retakes available as necessary. You will receive detailed exam access instructions a day before class. \nExcess credits carry forward to your next license period. \nMost brokers need 45 credits every 3 years. New brokers need 60. To get additional credits\, add Mistreated by Richard Pearl\, Mass CE course #93761\, 16 credits. Purchase separately on this website. Excess credits carry forward. \nMoney back guarantee: We will refund your money if\, for any reason\, you do not like this program. This offer extends up to the time we report credits. \n***** \nProcessing your order will take about 15 seconds. Do not refresh or reorder while you wait. The site will tell you when your order is complete. You will also receive confirmation by email.
URL:https://healthinsurancece.com/event/january-11-ce-program-mass-why-diabesity-persists-45-credits-including-ethics/
LOCATION:Zoom\, Your office\, Your city
CATEGORIES:Massachusetts
END:VEVENT
BEGIN:VEVENT
DTSTART;TZID=America/New_York:20240125T100000
DTEND;TZID=America/New_York:20240125T130000
DTSTAMP:20260423T032055
CREATED:20231002T145104Z
LAST-MODIFIED:20231002T145104Z
UID:17475-1706176800-1706187600@healthinsurancece.com
SUMMARY:January 25 - CE program Mass - Why Diabesity Persists (45 credits including ethics)
DESCRIPTION:Join Zoom Meeting\nhttps://us02web.zoom.us/j/87506931048?pwd=ZEJqZW56Y1g2Nzg3YWJxVllEdVpvQT09 \n40 minute lecture Why Diabesity Persists. \nGary Fradin will explain why diabesity – perhaps 25% of all healthcare spending – persists despite our efforts to address it. \nAfter the lecture\, take the Self Study exams below. You must read the texts in advance. Available on this website under Gary’s Texts after you login. \n\nHealth Ins Risks and Reforms Mass course #6000134515\, 42 credits.\nEthical Issues II\, Mass course #6000136953\, 3 ethics credits.\n\nTake the exams on this website after the lecture\, about 45 +/- minutes each. Graded immediately. Retakes available as necessary. You will receive detailed exam access instructions a day before class. \nExcess credits carry forward to your next license period. \nMost brokers need 45 credits every 3 years. New brokers need 60. To get additional credits\, add Mistreated by Richard Pearl\, Mass CE course #93761\, 16 credits. Purchase separately on this website. Excess credits carry forward. \nMoney back guarantee: We will refund your money if\, for any reason\, you do not like this program. This offer extends up to the time we report credits. \n***** \nProcessing your order will take about 15 seconds. Do not refresh or reorder while you wait. The site will tell you when your order is complete. You will also receive confirmation by email.
URL:https://healthinsurancece.com/event/january-25-ce-program-mass-why-diabesity-persists-45-credits-including-ethics/
LOCATION:Zoom\, Your office\, Your city
CATEGORIES:Massachusetts
END:VEVENT
END:VCALENDAR