BEGIN:VCALENDAR
VERSION:2.0
PRODID:-//HealthInsuranceCE - ECPv6.15.11//NONSGML v1.0//EN
CALSCALE:GREGORIAN
METHOD:PUBLISH
X-WR-CALNAME:HealthInsuranceCE
X-ORIGINAL-URL:https://healthinsurancece.com
X-WR-CALDESC:Events for HealthInsuranceCE
REFRESH-INTERVAL;VALUE=DURATION:PT1H
X-Robots-Tag:noindex
X-PUBLISHED-TTL:PT1H
BEGIN:VTIMEZONE
TZID:America/New_York
BEGIN:DAYLIGHT
TZOFFSETFROM:-0500
TZOFFSETTO:-0400
TZNAME:EDT
DTSTART:20220313T070000
END:DAYLIGHT
BEGIN:STANDARD
TZOFFSETFROM:-0400
TZOFFSETTO:-0500
TZNAME:EST
DTSTART:20221106T060000
END:STANDARD
BEGIN:DAYLIGHT
TZOFFSETFROM:-0500
TZOFFSETTO:-0400
TZNAME:EDT
DTSTART:20230312T070000
END:DAYLIGHT
BEGIN:STANDARD
TZOFFSETFROM:-0400
TZOFFSETTO:-0500
TZNAME:EST
DTSTART:20231105T060000
END:STANDARD
BEGIN:DAYLIGHT
TZOFFSETFROM:-0500
TZOFFSETTO:-0400
TZNAME:EDT
DTSTART:20240310T070000
END:DAYLIGHT
BEGIN:STANDARD
TZOFFSETFROM:-0400
TZOFFSETTO:-0500
TZNAME:EST
DTSTART:20241103T060000
END:STANDARD
END:VTIMEZONE
BEGIN:VEVENT
DTSTART;TZID=America/New_York:20231107T170000
DTEND;TZID=America/New_York:20231107T180000
DTSTAMP:20260423T062640
CREATED:20231107T182109Z
LAST-MODIFIED:20231107T182109Z
UID:17565-1699376400-1699380000@healthinsurancece.com
SUMMARY:November 7 - CE program Massachusetts - Why Diabesity Persists (45 Mass credits)
DESCRIPTION:40 minute lecture Why Diabesity Persists. \nJoin Zoom Meeting\nhttps://us02web.zoom.us/j/81655572463?pwd=d1lTenM5QWdZd3pybFBXT2U5RnlqUT09 \nGary Fradin will explain why diabesity – perhaps 25% of all healthcare spending – persists despite our efforts to address it. \nAfter the lecture\, take the Self Study exams below. You must read the texts in advance. Texts available on this website under Gary’s Texts after you login. \n\nHealth Ins Risks and Reforms course #6000134515\, 42 credits.\nEthical Issues II\, Mass course #6000136953\, 3 ethics credits.\n\nTake the exams on this website after the lecture\, about 45 +/- minutes each. Graded immediately. Retakes available as necessary. You will receive detailed exam access instructions a day before class. \nExcess credits carry forward to your next license period. \nMost brokers need 45 credits every 3 years. New brokers need 60. To get additional credits\, add Mistreated by Richard Pearl\, Mass CE course #93761\, 16 credits. Purchase separately on this website. Excess credits carry forward. \nMoney back guarantee: We will refund your money if\, for any reason\, you do not like this program. This offer extends up to the time we report credits. \n***** \nProcessing your order will take about 15 seconds. Do not refresh or reorder while you wait. The site will tell you when your order is complete. You will also receive confirmation by email.
URL:https://healthinsurancece.com/event/november-7-ce-program-massachusetts-why-diabesity-persists-45-mass-credits/
LOCATION:Zoom\, Your office\, Your city
CATEGORIES:Massachusetts
END:VEVENT
BEGIN:VEVENT
DTSTART;TZID=America/New_York:20231121T153000
DTEND;TZID=America/New_York:20231121T183000
DTSTAMP:20260423T062640
CREATED:20231119T193935Z
LAST-MODIFIED:20231119T195432Z
UID:17582-1700580600-1700591400@healthinsurancece.com
SUMMARY:Nov 21 - CE program Mass - Understanding Obesity and Diabetes (45 credits including ethics)
DESCRIPTION:40 minute lecture Understanding Obesity and Diabetes\, Tuesday\, Nov 21 at 3:30.  Join Zoom Meeting\nhttps://us02web.zoom.us/j/81716764050?pwd=RW5uU2dSQTJiczVvUEhKOWNpMFZadz09 \nGary Fradin will explain why obesity and diabetes – perhaps 25% of all healthcare spending – persist despite our efforts to address them. \nAfter the lecture\, take the Self Study exams below. You must read the texts in advance. Texts available on this website under Gary’s Texts after you login. \n\nHealth Ins Risks and Reforms course #6000134515\, 42 credits.\nEthical Issues II\, Mass course #6000136953\, 3 ethics credits.\n\nTake the exams on this website after the lecture\, about 45 +/- minutes each. Graded immediately. Retakes available as necessary. You will receive detailed exam access instructions a day before class. \nExcess credits carry forward to your next license period. \nMost brokers need 45 credits every 3 years. New brokers need 60. To get additional credits\, add Mistreated by Richard Pearl\, Mass CE course #93761\, 16 credits. Purchase separately on this website. Excess credits carry forward. \nMoney back guarantee: We will refund your money if\, for any reason\, you do not like this program. This offer extends up to the time we report credits. \n***** \nProcessing your order will take about 15 seconds. Do not refresh or reorder while you wait. The site will tell you when your order is complete. You will also receive confirmation by email.
URL:https://healthinsurancece.com/event/nov-21-ce-program-mass-understanding-obesity-and-diabetes-45-credits-including-ethics/
LOCATION:Zoom\, Your office\, Your city
CATEGORIES:Massachusetts
END:VEVENT
BEGIN:VEVENT
DTSTART;TZID=America/New_York:20231129T100000
DTEND;TZID=America/New_York:20231129T113000
DTSTAMP:20260423T062640
CREATED:20230620T201056Z
LAST-MODIFIED:20230620T201056Z
UID:17254-1701252000-1701257400@healthinsurancece.com
SUMMARY:November 29 - CE program Connecticut - Why Diabesity Persists (24 credits including ethics)
DESCRIPTION:24 credit package including LRE. Lecture + 2 online exams. \nNovember 29 at 10:00. Join Zoom Meeting\nhttps://us02web.zoom.us/j/89336486387?pwd=YkhSNW11eWdLcEliK01ranFiU0Q4UT09 \n40 minute lecture Why Diabesity Persists. \nGary Fradin will explain why diabesity – perhaps 25% of all healthcare spending – persists despite programs aimed to ameliorate it. \nAfter the lecture\, take the Self Study exams below. You must read the texts in advance. Available on this website under Gary’s Texts after you login. \n\nHealth Ins Risks and Reforms Conn course #6000136237\, 18 credits.\nThree Ethical Principles\, Conn course #6000137258\, 8 ethics credits.\n\nTake the exams on this website after the lecture\, about 20 +/- minutes each. Graded immediately. Retakes available as necessary. You will receive detailed exam access instructions a day before class. \nMoney back guarantee: We will refund your money if\, for any reason\, you do not like this program. This offer extends up to the time we report credits. \n***** \nProcessing your order will take about 15 seconds. Do not refresh or reorder while you wait. The site will tell you when your order is complete. You will also receive confirmation by email.
URL:https://healthinsurancece.com/event/november-29-ce-program-connecticut-why-diabesity-persists-24-credits-including-ethics/
LOCATION:Zoom\, Your office\, Your city
CATEGORIES:Connecticut
END:VEVENT
BEGIN:VEVENT
DTSTART;TZID=America/New_York:20231129T100000
DTEND;TZID=America/New_York:20231129T113000
DTSTAMP:20260423T062640
CREATED:20230620T201606Z
LAST-MODIFIED:20230620T202227Z
UID:17257-1701252000-1701257400@healthinsurancece.com
SUMMARY:November 29 - CE program NH - Why Diabesity Persists (24 credits including ethics)
DESCRIPTION:24 credit package: Lecture + 2 self study exams \nNovember 29 at 10:00 on Zoom. Join Zoom Meeting\nhttps://us02web.zoom.us/j/89336486387?pwd=YkhSNW11eWdLcEliK01ranFiU0Q4UT09 \n45 minute lecture Why Diabesity Persists \n\nSome 25% of all US healthcare spending goes to people with diabetes. We know how to prevent the disease. Gary Fradin will explain why we don’t.\n\nAfter the lecture\, take the Self Study exams below. You must read the texts in advance. You will not be permitted to take the exams otherwise. Available from amazon.com \n\nHealth Ins Risks and Reforms\,  New Hampshire course #6000137080\, 21 credits\, PDF available on this website under Gary’s Texts after you login.\nEthical Issues II\, New Hampshire course #6000138684\, 3 ethics credits\, PDF available on this website under Gary’s Texts after you login.\n\nTake the exams on this website after the lecture\, about 20 +/- minutes each. Graded immediately. Retakes available as necessary. You will receive detailed exam access instructions a day before class. \nMoney back guarantee: We will refund your money if\, for any reason\, you do not like this program. This offer extends up to the time we report credits. \n***** \nProcessing your order can take up to 30 seconds. Do not refresh or reorder while you wait. The site will tell you when your order is complete. You will also receive confirmation by email.
URL:https://healthinsurancece.com/event/november-29-ce-program-nh-why-diabesity-persists-24-credits-including-ethics/
LOCATION:Zoom\, Your office\, Your city
CATEGORIES:New Hampshire
END:VEVENT
BEGIN:VEVENT
DTSTART;TZID=America/New_York:20231129T100000
DTEND;TZID=America/New_York:20231129T120000
DTSTAMP:20260423T062640
CREATED:20230620T195929Z
LAST-MODIFIED:20231107T134210Z
UID:17248-1701252000-1701259200@healthinsurancece.com
SUMMARY:November 29 - CE program Massachusetts - Why Diabesity Persists (45 credits including ethics)
DESCRIPTION:Join Zoom Meeting  https://us02web.zoom.us/j/89336486387?pwd=YkhSNW11eWdLcEliK01ranFiU0Q4UT09 \n40 minute lecture Why Diabesity Persists. \nGary Fradin will explain why diabesity – perhaps 25% of all healthcare spending – persists despite our efforts to address it. \nAfter the lecture\, take the Self Study exams below. You must read the texts in advance. Texts available on this website under Gary’s Texts after you login. \n\nHealth Ins Risks and Reforms course #6000134515\, 42 credits.\nEthical Issues II\, Mass course #6000136953\, 3 ethics credits.\n\nTake the exams on this website after the lecture\, about 45 +/- minutes each. Graded immediately. Retakes available as necessary. You will receive detailed exam access instructions a day before class. \nExcess credits carry forward to your next license period. \nMost brokers need 45 credits every 3 years. New brokers need 60. To get additional credits\, add Mistreated by Richard Pearl\, Mass CE course #93761\, 16 credits. Purchase separately on this website. Excess credits carry forward. \nMoney back guarantee: We will refund your money if\, for any reason\, you do not like this program. This offer extends up to the time we report credits. \n***** \nProcessing your order will take about 15 seconds. Do not refresh or reorder while you wait. The site will tell you when your order is complete. You will also receive confirmation by email.
URL:https://healthinsurancece.com/event/november-29-ce-program-massachusetts-why-diabesity-persists-45-credits-including-ethics/
LOCATION:Zoom\, Your office\, Your city
CATEGORIES:Massachusetts
END:VEVENT
END:VCALENDAR