BEGIN:VCALENDAR
VERSION:2.0
PRODID:-//HealthInsuranceCE - ECPv6.15.11//NONSGML v1.0//EN
CALSCALE:GREGORIAN
METHOD:PUBLISH
X-ORIGINAL-URL:https://healthinsurancece.com
X-WR-CALDESC:Events for HealthInsuranceCE
REFRESH-INTERVAL;VALUE=DURATION:PT1H
X-Robots-Tag:noindex
X-PUBLISHED-TTL:PT1H
BEGIN:VTIMEZONE
TZID:America/New_York
BEGIN:DAYLIGHT
TZOFFSETFROM:-0500
TZOFFSETTO:-0400
TZNAME:EDT
DTSTART:20240310T070000
END:DAYLIGHT
BEGIN:STANDARD
TZOFFSETFROM:-0400
TZOFFSETTO:-0500
TZNAME:EST
DTSTART:20241103T060000
END:STANDARD
BEGIN:DAYLIGHT
TZOFFSETFROM:-0500
TZOFFSETTO:-0400
TZNAME:EDT
DTSTART:20250309T070000
END:DAYLIGHT
BEGIN:STANDARD
TZOFFSETFROM:-0400
TZOFFSETTO:-0500
TZNAME:EST
DTSTART:20251102T060000
END:STANDARD
BEGIN:DAYLIGHT
TZOFFSETFROM:-0500
TZOFFSETTO:-0400
TZNAME:EDT
DTSTART:20260308T070000
END:DAYLIGHT
BEGIN:STANDARD
TZOFFSETFROM:-0400
TZOFFSETTO:-0500
TZNAME:EST
DTSTART:20261101T060000
END:STANDARD
END:VTIMEZONE
BEGIN:VEVENT
DTSTART;TZID=America/New_York:20250124T100000
DTEND;TZID=America/New_York:20250124T120000
DTSTAMP:20260419T132453
CREATED:20241011T123453Z
LAST-MODIFIED:20241011T123453Z
UID:19760-1737712800-1737720000@healthinsurancece.com
SUMMARY:January 24 - Understanding Obesity and Diabetes (24 NH credits including ethics)
DESCRIPTION:Follow our 3 step CE ‘like a college course’ process. \nFirst\, read these texts in advance. PDFs available on this website under Gary’s Texts after you login. \n\nHealth Ins Risks and Reforms\,  New Hampshire course #6000137080\, 21 credits.\nEthical Issues II\, New Hampshire course #6000138684\, 3 ethics credits.\n\nSecond\, attend the 40 minute Zoom lecture ‘Understanding Obesity and Diabetes’ on Jan 24 \n\nJoin Zoom Meeting https://us02web.zoom.us/j/83215029324?pwd=MeCMomCN7jxwZSEgzagGgjFxbyajyb.1\nGary Fradin will explain why diabesity – perhaps 25% of all healthcare spending – persists despite our efforts to address it.\n\nThird\, take the exams on the 2 texts after the lecture.  \n\nTake the exams on this website\, about 25 +/- minutes each. Graded immediately. Retakes available as necessary.\nFinish by end-of-work on January 24.\n\nYou will receive detailed exam access instructions a couple days before class. \nMoney back guarantee: We will refund your money if\, for any reason\, you do not like this program. This offer extends up to the time we report credits. \n***** \nProcessing your order will take about 15 seconds. Do not refresh or reorder while you wait. The site will tell you when your order is complete. You will also receive confirmation by email.
URL:https://healthinsurancece.com/event/january-24-understanding-obesity-and-diabetes-24-nh-credits-including-ethics/
LOCATION:Zoom\, Your office\, Your city
CATEGORIES:New Hampshire
END:VEVENT
END:VCALENDAR